BEGIN:VCALENDAR
VERSION:2.0
PRODID:-//Space Hub Yorkshire - ECPv6.15.20//NONSGML v1.0//EN
CALSCALE:GREGORIAN
METHOD:PUBLISH
X-ORIGINAL-URL:https://spacehubyorkshire.org
X-WR-CALDESC:Events for Space Hub Yorkshire
REFRESH-INTERVAL;VALUE=DURATION:PT1H
X-Robots-Tag:noindex
X-PUBLISHED-TTL:PT1H
BEGIN:VTIMEZONE
TZID:Europe/London
BEGIN:DAYLIGHT
TZOFFSETFROM:+0000
TZOFFSETTO:+0100
TZNAME:BST
DTSTART:20220327T010000
END:DAYLIGHT
BEGIN:STANDARD
TZOFFSETFROM:+0100
TZOFFSETTO:+0000
TZNAME:GMT
DTSTART:20221030T010000
END:STANDARD
BEGIN:DAYLIGHT
TZOFFSETFROM:+0000
TZOFFSETTO:+0100
TZNAME:BST
DTSTART:20230326T010000
END:DAYLIGHT
BEGIN:STANDARD
TZOFFSETFROM:+0100
TZOFFSETTO:+0000
TZNAME:GMT
DTSTART:20231029T010000
END:STANDARD
BEGIN:DAYLIGHT
TZOFFSETFROM:+0000
TZOFFSETTO:+0100
TZNAME:BST
DTSTART:20240331T010000
END:DAYLIGHT
BEGIN:STANDARD
TZOFFSETFROM:+0100
TZOFFSETTO:+0000
TZNAME:GMT
DTSTART:20241027T010000
END:STANDARD
END:VTIMEZONE
BEGIN:VEVENT
DTSTART;VALUE=DATE:20230603
DTEND;VALUE=DATE:20230605
DTSTAMP:20260420T221203
CREATED:20230330T115917Z
LAST-MODIFIED:20230403T092614Z
UID:1684-1685750400-1685923199@spacehubyorkshire.org
SUMMARY:Bradford Science Festival 2023 Family Weekend
DESCRIPTION:EXCITING Space activities weekend is coming to Bradford 3rd \n& 4th June 2023!\n \nReplica build of the Nasa’s Orion Spacecraft is coming to Bradford’s National Science & Media Museum. Learn firsthand about the process of constructing a spacecraft and bring your passion for space exploration to life. Exciting activities and experiences\, excellent for families\, visitors and the young to be part of this jam-packed weekend. \nLearn about some incredible science in interactive shows\, hands-on activities from the University of Bradford\, Bradford Museums and Galleries\, Spongetree\, University of Leeds and more fantastic partners. You can even make a model of your own Orion spacecraft and take it home! \nOnce the build is complete\, look out for the Orion on tour & in classrooms across Yorkshire. \nBringing space to people & communities across the region!
URL:https://spacehubyorkshire.org/event/build-of-the-orion-spacecraft-coming-to-national-science-media-museum-3-4-june-2023/
LOCATION:National Science & Media Museum\, Pictureville\, Bradford\, Bradford BD1 1NQ\, United Kingdom
END:VEVENT
BEGIN:VEVENT
DTSTART;TZID=Europe/London:20230617T183000
DTEND;TZID=Europe/London:20230617T183000
DTSTAMP:20260420T221203
CREATED:20230330T112249Z
LAST-MODIFIED:20230330T113506Z
UID:1680-1687026600-1687026600@spacehubyorkshire.org
SUMMARY:Chris Hadfield: On Earth and Space 17 June 2023
DESCRIPTION:  \n \nOn Earth and Space – Chris Hadfield’s Guide to the Cosmos at the Scottish Events Campus 17 June 2023. \nJoin Canadian astronaut and ex-commander of the International Space Station\, Chris Hadfield\, for a mind-expanding evening of exploration\, imagery\, stories\, and music. \nWhat does this new age of space travel mean\, and what can it bring to life on Earth? \nFor these unique live events\, Chris will share unheard tales of space voyages and human exploration for all ages\, as seen through the eyes of an astronaut. \nWith screen-filling multimedia of the latest discoveries and technology including mind-blowing images from the James Webb telescope\, Chris will celebrate the best of human achievement and optimism\, engage the audience in Q&A\, and share his unique view of our world from a true space explorer’s perspective. \nBook tickets here
URL:https://spacehubyorkshire.org/event/chris-hadfield-on-earth-and-space-17-june-2023/
LOCATION:SEC\, Scottish\, Glasgow\, Scotland\, G3 8YW\, United Kingdom
END:VEVENT
BEGIN:VEVENT
DTSTART;VALUE=DATE:20230623
DTEND;VALUE=DATE:20230624
DTSTAMP:20260420T221203
CREATED:20240322T185001Z
LAST-MODIFIED:20240412T174350Z
UID:2181-1687478400-1687564799@spacehubyorkshire.org
SUMMARY:GreenSpace Workshop 1
DESCRIPTION:Space Hub Yorkshire’s GreenSpace Project convened it’s first workshop on 23rd June 2023 at the Nexus Building in Leeds. \nThe workshop was convened to engage individuals from GreenSpace-relevant sectors and to facilitate the development of R&D projects. Attendees included senior university academics and personnel from Earth Observation\, agricultural\, and financial organisations. \nAgenda \n  \n\n Session Context and Purpose\nInsights into world-leading research\nPolicy and Investment Landscape\nWorking Session\n\nChallenges and Opportunities: discuss opportunities and barriers to the use of satellite and EO within key sectors.\nChallenge Curation: explore the potential for curating practical\, feasible challenges\, dial moving pilot studies that can act as a catalyst for further collaboration across sectors and supply chains.\n\n\n\n \n  \n \nDownload the GreenSpace Workshop 1 Event Report
URL:https://spacehubyorkshire.org/event/greenspace-workshop-1/
CATEGORIES:GreenSpace
ATTACH;FMTTYPE=image/jpeg:https://spacehubyorkshire.org/wp-content/uploads/sites/106/2024/02/mario-gogh-VBLHICVh-lI-unsplash.jpg
END:VEVENT
END:VCALENDAR