BEGIN:VCALENDAR
VERSION:2.0
PRODID:-//Space Hub Yorkshire - ECPv6.15.20//NONSGML v1.0//EN
CALSCALE:GREGORIAN
METHOD:PUBLISH
X-ORIGINAL-URL:https://spacehubyorkshire.org
X-WR-CALDESC:Events for Space Hub Yorkshire
REFRESH-INTERVAL;VALUE=DURATION:PT1H
X-Robots-Tag:noindex
X-PUBLISHED-TTL:PT1H
BEGIN:VTIMEZONE
TZID:Europe/London
BEGIN:DAYLIGHT
TZOFFSETFROM:+0000
TZOFFSETTO:+0100
TZNAME:BST
DTSTART:20240331T010000
END:DAYLIGHT
BEGIN:STANDARD
TZOFFSETFROM:+0100
TZOFFSETTO:+0000
TZNAME:GMT
DTSTART:20241027T010000
END:STANDARD
BEGIN:DAYLIGHT
TZOFFSETFROM:+0000
TZOFFSETTO:+0100
TZNAME:BST
DTSTART:20250330T010000
END:DAYLIGHT
BEGIN:STANDARD
TZOFFSETFROM:+0100
TZOFFSETTO:+0000
TZNAME:GMT
DTSTART:20251026T010000
END:STANDARD
BEGIN:DAYLIGHT
TZOFFSETFROM:+0000
TZOFFSETTO:+0100
TZNAME:BST
DTSTART:20260329T010000
END:DAYLIGHT
BEGIN:STANDARD
TZOFFSETFROM:+0100
TZOFFSETTO:+0000
TZNAME:GMT
DTSTART:20261025T010000
END:STANDARD
BEGIN:DAYLIGHT
TZOFFSETFROM:+0000
TZOFFSETTO:+0100
TZNAME:BST
DTSTART:20270328T010000
END:DAYLIGHT
BEGIN:STANDARD
TZOFFSETFROM:+0100
TZOFFSETTO:+0000
TZNAME:GMT
DTSTART:20271031T010000
END:STANDARD
END:VTIMEZONE
BEGIN:VEVENT
DTSTART;TZID=Europe/London:20251202T110000
DTEND;TZID=Europe/London:20251202T160000
DTSTAMP:20260421T190629
CREATED:20251124T115837Z
LAST-MODIFIED:20251124T115837Z
UID:3198-1764673200-1764691200@spacehubyorkshire.org
SUMMARY:UK-EONS: The Impact of Earth Observation on the maritime industries
DESCRIPTION:Overview\n\n\n\n\n\nDiscover how satellite data and innovative space technologies are revolutionising maritime operations\n\n\n\nHosted by Space Hub Yorkshire & Space Humber \nJoin us at the stunning Radisson Red Sky Bar in Glasgow for an afternoon and evening exploring how Earth Observation is transforming the UK’s maritime sector. \nAbout This Event\nDiscover how satellite data and innovative space technologies are revolutionising maritime operations – from sustainable fishing practices to enhanced shipping safety and defence applications. \nThis unique networking event brings together the UK Earth Observation Network for Sustainability (UK EONS) with maritime industry leaders\, connecting EO providers with end-users across fishing\, shipping\, insurance\, and defence sectors. \nWhat to Expect\n\nIndustry Insights: Learn how Earth Observation capabilities are supporting sustainability\, safety\, and efficiency across maritime operations\nInnovation Showcase: Meet early-stage companies driving innovation at the intersection of space and sea\nRegional Collaboration: Strengthen connections between Space Hub Yorkshire\, Space Humber\, and the Scottish Space Network\nNetworking Opportunities: Connect with stakeholders from space\, maritime\, defence\, insurance\, fishing industries\, plus academia and government agencies\n\nProgramme\nMain Event: Radisson Red Sky Bar\, Glasgow (11.30 – 4pm)\nPost-Event Drinks: Burness Paull\, 31 York Street\, Glasgow\, G2 8AS (5:30pm–8:00pm) \nWhether you’re an EO provider looking to expand into maritime applications\, or a maritime industry professional seeking to understand how satellite data can transform your operations\, this event offers valuable insights and connections. \nProgramme/Schedule UK EONS Maritime and Space  \n11:00 – 11:30 | Arrival\, coffee\, and networking \n11:30 – 12:00 | Session 1: The UK EONS Programme – A look at achievements\, current activity\, and building a lasting EO legacy in Glasgow. Chair: Glenn (Space Hub Yorkshire)\, with UK EONS invited guests on the panel. \n12:15 – 13:00 | Lunch and networking \n13:00 – 13:45 | Session 2: Industry – Academia Collaboration in EO – Exploring partnership projects\, innovation pipelines\, and future challenges for Space and Maritime industries. Chair: Andy Campbell (Space Network) \n13:45 – 14:00 | Coffee and networking \n14:00 – 14:45 | EO Showcase – Short presentations from EO businesses \n15:00 – 16:00 | Exhibition and networking \n17:30 – 20:00 | Drinks reception at in partnership with Space Network and Burness Paull\, at Burness Paull\, Glasgow with opening address from  J.D. Polk (Chief Medical Officer\, NASA).
URL:https://spacehubyorkshire.org/event/uk-eons-the-impact-of-earth-observation-on-the-maritime-industries/
LOCATION:Radisson Red\, 25 Finnieston Quay\, Glasgow
END:VEVENT
BEGIN:VEVENT
DTSTART;VALUE=DATE:20260126
DTEND;VALUE=DATE:20260131
DTSTAMP:20260421T190629
CREATED:20260218T163353Z
LAST-MODIFIED:20260225T134430Z
UID:3225-1769385600-1769817599@spacehubyorkshire.org
SUMMARY:Orlando Commercial Space Week 2026
DESCRIPTION:The UK Space Delegation to Orlando Space Commercial Week 2026 brings together a cohort of UK space companies\, universities and sector representatives to engage with key stakeholders across Florida’s space ecosystem. The programme spans engagements in Orlando and the Space Coast\, including visits to the University of Central Florida\, Space Florida\, Kennedy Space Center and participation in SpaceCom at the Orange County Convention Center. Activities include academic roundtables\, company showcase sessions\, site visits and structured B2B meetings designed to facilitate commercial partnerships and knowledge exchange. The primary objectives of the delegation are to strengthen UK–US collaboration\, generate tangible business opportunities\, enhance inward and outward investment links\, and promote the capabilities of the UK space sector within the North American market. The programme is coordinated by the UK Department for Business and Trade in partnership with the British Consulate-General in Miami. \nMicrosoft Word – SHY POST-EVENT FORM_Florida \n 
URL:https://spacehubyorkshire.org/event/orlando-commercial-space-week-2026/
LOCATION:Florida
ATTACH;FMTTYPE=image/png:https://spacehubyorkshire.org/wp-content/uploads/sites/106/2026/02/CSW.png
END:VEVENT
BEGIN:VEVENT
DTSTART;TZID=Europe/London:20260204T110000
DTEND;TZID=Europe/London:20260204T160000
DTSTAMP:20260421T190629
CREATED:20260122T095455Z
LAST-MODIFIED:20260225T134146Z
UID:3203-1770202800-1770220800@spacehubyorkshire.org
SUMMARY:UKSEDS Northern Conference
DESCRIPTION:UKSEDS Presents in Collaboration with Project Orion and Space Hub Yorkshire\, University of Leeds\nInspiring Excellence in Engineering\nThe UKSEDS annual regional event brings together student societies with a shared passion for space for a full day of learning\, collaboration\, and connection. Whether you’re part of an established society or just getting started\, this event offers the perfect opportunity to meet like-minded students\, exchange experiences\, and become part of the UK’s growing space community. \nThis year’s theme\, “Inspiring Excellence in Engineering”\, celebrates the incredible work being carried out by student societies across the region. The event will also feature industry and academic professionals who will share their expertise\, career journeys\, and passion for space-related engineering. \nThroughout the day\, attendees will take part in a programme of talks led by space lecturers and industry professionals\, offering insight into: \n\nCareers in the space sector\nCurrent research and innovation\nKey engineering challenges facing the industry\n\nThere will also be dedicated time to: \n\nNetwork with other student societies\nExplore student-led project showcases\nShare your own work with the wider UKSEDS community\n\nAbove all\, this event aims to provide a welcoming\, inclusive\, and engaging environment for all students. \n﻿ \nhttps://spacehubyorkshire.org/wp-content/uploads/sites/106/2026/02/SHY_UKSEDS-1.pdf
URL:https://spacehubyorkshire.org/event/ukseds-northern-conference/
LOCATION:Nexus\, Nexus Building\, Leeds\, United Kingdom\, LS21AA\, United Kingdom
END:VEVENT
BEGIN:VEVENT
DTSTART;TZID=Europe/London:20260217T124500
DTEND;TZID=Europe/London:20260217T154500
DTSTAMP:20260421T190629
CREATED:20260213T141913Z
LAST-MODIFIED:20260213T141935Z
UID:3217-1771332300-1771343100@spacehubyorkshire.org
SUMMARY:SCIF Engagement Workshop
DESCRIPTION:​​This workshop is a valuable opportunity for Scotland space business\, academia\, and institutions to help shape the strategic direction and future calls of the Space Clusters Infrastructure Fund (SCIF)\, connect with peers from across the region\, and ask any questions you may have about SCIF. Lunch and light refreshments will be provided.
URL:https://spacehubyorkshire.org/event/scif-engagement-workshop/
LOCATION:Higgs Centre for Innovation\, Edinburgh\, United Kingdom
END:VEVENT
BEGIN:VEVENT
DTSTART;TZID=Europe/London:20260224T100000
DTEND;TZID=Europe/London:20260224T113000
DTSTAMP:20260421T190629
CREATED:20260213T115505Z
LAST-MODIFIED:20260316T124728Z
UID:3214-1771927200-1771932600@spacehubyorkshire.org
SUMMARY:Hidden Space Capabilities: How Non-Space Companies are Powering the Space Sector
DESCRIPTION:An introductory 90-minute webinar for companies interested in understanding how they can be part of the Space sector in the UK. We will be exploring how your existing technologies\, products and expertise can connect to the UK Space ecosystem; hearing about how companies can benefit from applications such as Earth Observation. We will also be sign posting to additional support\, events and funding opportunities. \nThe full schedule will be released soon! \nClick here to register.
URL:https://spacehubyorkshire.org/event/hidden-space-capabilities-webinar/
LOCATION:online
END:VEVENT
BEGIN:VEVENT
DTSTART;TZID=Europe/London:20260225T103000
DTEND;TZID=Europe/London:20260225T173000
DTSTAMP:20260421T190629
CREATED:20260213T142617Z
LAST-MODIFIED:20260213T142617Z
UID:3219-1772015400-1772040600@spacehubyorkshire.org
SUMMARY:Trajectory - Space Ecosystem Roadshow
DESCRIPTION:Trajectory brings Accelerator participants\, alumni\, mentors & regional ecosystem stakeholders together to cement long lasting relationships. This regional roadshow returns to bring together innovative entrepreneurs\, suppliers\, investors\, and industry experts from across the UK space sector. \nThe first UK Space Agency Accelerator Trajectory of 2026 will highlight the creativity\, ambition\, and diversity of the space start-up community\, featuring engaging discussions\, interactive sessions\, and plenty of opportunities to connect. \nThis event will focus on market access in the space sector – helping startups and scale-ups navigate new markets\, forge strategic partnerships\, and turn innovation into real-world impact. \nIt’s a great chance to exchange ideas\, build relationships\, and explore ways to reach the right markets. \nWe’re bringing together the people shaping the future of space\, and we’d love for you to join us.
URL:https://spacehubyorkshire.org/event/trajectory-space-ecosystem-roadshow/
LOCATION:Core Technology Institute\, 46 Grafton Street\, Manchester\, M13 9WU\, United Kingdom
END:VEVENT
BEGIN:VEVENT
DTSTART;VALUE=DATE:20260304
DTEND;VALUE=DATE:20260306
DTSTAMP:20260421T190629
CREATED:20260302T131031Z
LAST-MODIFIED:20260303T151918Z
UID:3271-1772582400-1772755199@spacehubyorkshire.org
SUMMARY:Space Comm Expo Europe
DESCRIPTION:Space‑Comm Expo Europe 2026 takes place 4-5 March at ExCeL London and is recognised as Europe’s premier commercial space event. It brings together the entire space supply chain\, welcoming more than 5\,400 leaders from government\, defence\, industry\, research\, and investment communities. Attendees gain access to 250+ exhibitors and over 200 expert speakers who address the technologies\, capabilities\, and partnerships shaping the future of the global space sector. \nThe expo features dedicated conference programmes spanning defence and national security\, space technology\, intergovernmental policy\, satellite data\, innovation\, and geospatial artificial intelligence. These sessions provide insight into strategy\, investment\, regulation\, sustainability\, and emerging commercial opportunities. The event also offers live demonstrations\, roundtables\, and the Meet‑the‑Buyer programme designed to support meaningful business engagement and industry collaboration. \nSpace‑Comm Expo Europe is a key gathering point for organizations working across satellite systems\, launch services\, Earth observation\, secure communications\, advanced manufacturing\, data and analytics\, and research and innovation services. With representation from more than 35 countries and strong participation from both major agencies and emerging enterprises\, the expo serves as an important platform for connecting\, collaborating\, and driving growth across the international space community. \nUK Space Agency Space Ecosystems Champions Pamela and Gareth will be at Space Comm. Pamela is there on Wednesday 4th\, Gareth is there Thursday 5th – reach out to arrange to meet!
URL:https://spacehubyorkshire.org/event/space-comm-expo-europe/
LOCATION:Excel London\, Royal Victoria Dock\, 1 Western Gateway\, London\, E16 1XL\, United Kingdom
CATEGORIES:SHY,UK Space Agency
END:VEVENT
BEGIN:VEVENT
DTSTART;TZID=Europe/London:20260312T090000
DTEND;TZID=Europe/London:20260312T170000
DTSTAMP:20260421T190629
CREATED:20260304T135950Z
LAST-MODIFIED:20260306T150853Z
UID:3286-1773306000-1773334800@spacehubyorkshire.org
SUMMARY:Bridging Non‑Terrestrial (NTN) and Terrestrial (TN) Networks for Autonomous\, Connected Infrastructure
DESCRIPTION:A national workshop uniting space\, telecoms & autonomy sectors to accelerate NTN–TN integration for next‑gen connected infrastructure.\nUK‑ACE event brings together leaders from space\, telecoms\, autonomy\, government\, academia and standards bodies to accelerate the integration of Non‑Terrestrial Networks (NTN) and Terrestrial Networks (TN)\, helping shape the UK’s future resilient\, secure and scalable connectivity. Building on the energy and insights from previous UK‑ACE workshops\, this event moves the programme from exploration to action. Together\, we’ll explore the architectures\, standards\, regulatory needs and real‑world applications that will enable next‑generation autonomous and connected systems across the UK. \nThis event forms part of the UK Autonomous Connected Earth (UK‑ACE) network\, delivered by UKRI Science & Technology Facilities Council (STFC) and the Satellite Applications Catapult. UK‑ACE is a national initiative connecting six of the UK’s premier space clusters to drive innovation in autonomy\, connectivity and satellite‑enabled technologies. The network focuses on bringing organisations together\, sharing expertise and supporting the development of hybrid terrestrial and non‑terrestrial connectivity. This sits within the wider UK Space Ecosystem\, in partnership with the Satellite Applications Catapult\, and continues our shared mission to help organisations across the UK explore new opportunities in connectivity\, autonomy and space‑enabled services. \nDr. Viktor Doychinov will represent the University of Bradford and Space Hub Yorkshire during Panel Session 2: Opportunities and Innovation Across the Ecosystem. He will discuss research and innovation in the integration of 5G/6G Non-Terrestrial Networks (NTN) and Terrestrial Networks (TN)\, the development of Space Test North\, and the role of Space Hub Yorkshire in supporting and strengthening the regional space ecosystem.
URL:https://spacehubyorkshire.org/event/bridging-non-terrestrial-ntn-and-terrestrial-tn-networks-for-autonomous-connected-infrastructure/
LOCATION:electron building\, Satellite Application Catapult\, Harwell Campus\,\, Harwell\, OX11 0QR\, United Kingdom
END:VEVENT
BEGIN:VEVENT
DTSTART;TZID=Europe/London:20260316T100000
DTEND;TZID=Europe/London:20260316T150000
DTSTAMP:20260421T190629
CREATED:20260227T101023Z
LAST-MODIFIED:20260227T101023Z
UID:3235-1773655200-1773673200@spacehubyorkshire.org
SUMMARY:ESA101 - York
DESCRIPTION:Are you interested in exploring how to engage with the European Space Agency and the UK Space Agency? \nESA101 is a fantastic opportunity to explore commercial opportunities\, funding and collaboration in the UK Space Sector. Hosted in York in collaboration with Space Hub Yorkshire. \nUKSA Space Ecosystems Champion Gareth Preece will be there.
URL:https://spacehubyorkshire.org/event/esa101-york/
LOCATION:The Guildhall\, York
END:VEVENT
BEGIN:VEVENT
DTSTART;TZID=Europe/London:20260318T140000
DTEND;TZID=Europe/London:20260318T150000
DTSTAMP:20260421T190629
CREATED:20260302T131818Z
LAST-MODIFIED:20260302T131818Z
UID:3273-1773842400-1773846000@spacehubyorkshire.org
SUMMARY:EU Space Act Webinar
DESCRIPTION:Join UKspace to update members on the evolving EU Space Act and what this means for your organisation.
URL:https://spacehubyorkshire.org/event/eu-space-act-webinar/
LOCATION:online
CATEGORIES:SHY,UK Space Agency
END:VEVENT
BEGIN:VEVENT
DTSTART;TZID=Europe/London:20260324T110000
DTEND;TZID=Europe/London:20260324T123000
DTSTAMP:20260421T190629
CREATED:20260316T123556Z
LAST-MODIFIED:20260316T124747Z
UID:3343-1774350000-1774355400@spacehubyorkshire.org
SUMMARY:Space Funding: C-LEO Information and Expression of Interest
DESCRIPTION:A brand new webinar to provide an overview of accessing UKSA & ESA funding\, and some detail on the C-LEO (Connectivity – Low Earth Orbit) ARTES Only call. This session will specifically focus on the C-LEO call\, helping you to understand the roadmap for the application\, the eligibility criteria so that you can make an informed decision as to whether to proceed and\, if you want to apply\, what you will need for your expression of interest (which is due by 13th April 2026). \n  \nHave questions? Please send these ahead of time to spacehubyorkshire@leeds.ac.uk with ‘C-LEO Question’ in the subject line. \nRegister here!
URL:https://spacehubyorkshire.org/event/space-funding-c-leo-information-and-expression-of-interest/
LOCATION:W Yorkshire
END:VEVENT
BEGIN:VEVENT
DTSTART;TZID=Europe/London:20260325T080000
DTEND;TZID=Europe/London:20260327T170000
DTSTAMP:20260421T190629
CREATED:20260304T140809Z
LAST-MODIFIED:20260306T150347Z
UID:3291-1774425600-1774630800@spacehubyorkshire.org
SUMMARY:PocketQube Conference 2026
DESCRIPTION:The 9th Annual PocketQube Conference is an international conference addressing the technical challenges associated with developing PocketQube technology for widening space access\, shaping the future of space democratization in the process. \nThe PocketQube Conference provides a unique forum for collaboration between industry professionals\, academic researchers and students who are developing the new and rapidly growing field of pico-satellites. \nThe University of Bradford Satellite Team will present at the conference in collaboration with Space Hub Yorkshire. The presentation will highlight how Space Hub Yorkshire supports the regional development of satellite system engineering\, fostering innovation\, collaboration between academia and industry\, and the growth of space-related capabilities across the Yorkshire region.
URL:https://spacehubyorkshire.org/event/pocketqube-conference-2026/
LOCATION:W Yorkshire
ATTACH;FMTTYPE=image/png:https://spacehubyorkshire.org/wp-content/uploads/sites/106/2026/03/PocketQubeConference2026-1.png
END:VEVENT
END:VCALENDAR