BEGIN:VCALENDAR
VERSION:2.0
PRODID:-//Space Hub Yorkshire - ECPv6.15.20//NONSGML v1.0//EN
CALSCALE:GREGORIAN
METHOD:PUBLISH
X-ORIGINAL-URL:https://spacehubyorkshire.org
X-WR-CALDESC:Events for Space Hub Yorkshire
REFRESH-INTERVAL;VALUE=DURATION:PT1H
X-Robots-Tag:noindex
X-PUBLISHED-TTL:PT1H
BEGIN:VTIMEZONE
TZID:Europe/London
BEGIN:DAYLIGHT
TZOFFSETFROM:+0000
TZOFFSETTO:+0100
TZNAME:BST
DTSTART:20220327T010000
END:DAYLIGHT
BEGIN:STANDARD
TZOFFSETFROM:+0100
TZOFFSETTO:+0000
TZNAME:GMT
DTSTART:20221030T010000
END:STANDARD
BEGIN:DAYLIGHT
TZOFFSETFROM:+0000
TZOFFSETTO:+0100
TZNAME:BST
DTSTART:20230326T010000
END:DAYLIGHT
BEGIN:STANDARD
TZOFFSETFROM:+0100
TZOFFSETTO:+0000
TZNAME:GMT
DTSTART:20231029T010000
END:STANDARD
BEGIN:DAYLIGHT
TZOFFSETFROM:+0000
TZOFFSETTO:+0100
TZNAME:BST
DTSTART:20240331T010000
END:DAYLIGHT
BEGIN:STANDARD
TZOFFSETFROM:+0100
TZOFFSETTO:+0000
TZNAME:GMT
DTSTART:20241027T010000
END:STANDARD
END:VTIMEZONE
BEGIN:VEVENT
DTSTART;VALUE=DATE:20230817
DTEND;VALUE=DATE:20230822
DTSTAMP:20260422T003801
CREATED:20240125T092924Z
LAST-MODIFIED:20240125T093115Z
UID:1921-1692230400-1692662399@spacehubyorkshire.org
SUMMARY:Space for Everyone - Hull
DESCRIPTION:The UK Space Agency’s Space for Everyone tour will showcase the role of space in improving life on Earth and highlight the diverse and varied career paths open to young people looking to enter this fast-growing industry – demonstrating how space works for them\, and how they can work for space. \nThe tour will feature a 72 feet replica rocket for young people to learn more about how the UK is launching into space\, and also include hands-on experiences to engage and fire up the imagination. Trained hosts and industry experts will be on hand to share more about the role of satellites and the varied careers available in the UK space sector. \nSpace Hub Yorkshire will have a stand showcasing the work of the Space Sector in Yorkshire. Representatives from local LEPs and local industry will also share the stand. \n  \nMedia links: \nSpace rocket lands in Hull to showcase out-of-this-world opportunities – Hull Live (hulldailymail.co.uk) \nBBC Radio Humberside – BBC Radio Humberside\, Hull’s Space Day – it IS rocket science! \nSpace rocket lands in Hull | News – Viking FM (planetradio.co.uk)
URL:https://spacehubyorkshire.org/event/space-for-everyone-hull/
LOCATION:Hull\, Hull
END:VEVENT
END:VCALENDAR